BEGIN:VCALENDAR
VERSION:2.0
PRODID:icalendar-ruby
CALSCALE:GREGORIAN
METHOD:PUBLISH
BEGIN:VEVENT
DTSTAMP:20260420T093559Z
UID:262-941910@vcfofgreeley.org
DTSTART:20260517T163000Z
DTEND:20260517T171500Z
CLASS:PUBLIC
CREATED:20260416T132515
DESCRIPTION:Single moms\, join Pastor Elizabeth in the Youth Room.
LAST-MODIFIED:20260416T132515
LOCATION:Youth Room
SUMMARY:Single Mom's Group
URL;VALUE=URI:https://www.vcfofgreeley.org/events/single-moms-group--262/20
 26-05-17
ATTACH;FILENAME=May-BBB-1.png;FMTTYPE=image/png:https://dq5pwpg1q8ru0.cloud
 front.net/2026/04/16/18/56/28/c42ecb54-8dc2-419a-a388-a1fb531c2a1b/May-BBB
 -1.png
END:VEVENT
END:VCALENDAR
