BEGIN:VCALENDAR
VERSION:2.0
PRODID:icalendar-ruby
CALSCALE:GREGORIAN
METHOD:PUBLISH
BEGIN:VEVENT
DTSTAMP:20260422T222916Z
UID:10-958871@vcfofgreeley.org
DTSTART:20261015T190000Z
DTEND:20261015T200000Z
CLASS:PUBLIC
CREATED:20260422T131622
DESCRIPTION:Prayer Service
LAST-MODIFIED:20260422T131622
LOCATION:Sanctuary
SUMMARY:Prayer Service
URL;VALUE=URI:https://www.vcfofgreeley.org/events/prayer-service--10/2026-1
 0-15
ATTACH;FILENAME=Prayer-2-%281%29.png;FMTTYPE=image/png:https://dq5pwpg1q8ru
 0.cloudfront.net/2023/01/05/21/52/22/b03e0e96-bb9c-424d-90d1-72713022f766/
 Prayer-2-%25281%2529.png
END:VEVENT
END:VCALENDAR
