BEGIN:VCALENDAR
VERSION:2.0
PRODID:icalendar-ruby
CALSCALE:GREGORIAN
METHOD:PUBLISH
BEGIN:VEVENT
DTSTAMP:20260421T102330Z
UID:195-594213@vcfofgreeley.org
DTSTART:20251002T160000Z
DTEND:20251002T220000Z
CLASS:PUBLIC
CREATED:20251120T152134
DESCRIPTION:We are honored to serve the Greeley Area Community through our 
 Food Pantry. It is open Tuesday &amp\; Thursday 9am-3pm\, and Friday 9am-1
 2pm. If you need a food box\, please call our office 970-351-8300 and talk
  to our Administrator Tammy Uber. She's happy to help! (Due to the immense
  need in recent months\, we can only help families with a food box once ev
 ery 6 weeks at this time.)
LAST-MODIFIED:20251120T152134
LOCATION:
SUMMARY:Food Pantry Open
URL;VALUE=URI:https://www.vcfofgreeley.org/events/food-pantry-open/2025-10-
 02
ATTACH;FILENAME=Foodbank-days.png;FMTTYPE=image/png:https://dq5pwpg1q8ru0.c
 loudfront.net/2025/05/29/16/16/40/cad7ec56-94cd-400f-afaf-466f1b4f383f/Foo
 dbank-days.png
END:VEVENT
END:VCALENDAR
